BEGIN:VCALENDAR
VERSION:2.0
BEGIN:VEVENT
URL:https://missoesurbanas.xyz/index.php/social/events/viewevent/6-oracao-pelo-treinamento?groupid=7 
DTSTART:20170417T080000
DTEND:20170417T201500
SUMMARY:Oração pelo Treinamento
DESCRIPTION:<p>Precisamos muito contar com suas orações pelo nosso Treinamento de Evangelismo Urbano. Geralmente as pessoas se convertem quando são evangelizadas na parte prática do nosso treinamento. Participe conosco desta grande colheita.</p><p>Ore pelos Treinadores - Para que o Senhor os conduza com sabedoria</p><p>Ore pelos Treinandos - Para que estejam com o coração aberto para aprender e coloquem em prática.</p>Ore pelos Evangelizados - Que encontrem uma igreja para congregar e crescer espiritualmente.
LOCATION:Vicente de Carvalho, Rio de Janeiro
END:VEVENT
END:VCALENDAR