BEGIN:VCALENDAR
VERSION:2.0
BEGIN:VEVENT
URL:https://missoesurbanas.xyz/index.php/social/events/viewevent/5-viagem-missionaria 
DTSTART:20170413T213000
DTEND:20170416T120000
SUMMARY:Viagem missionaria 
DESCRIPTION:
LOCATION:Minas Gerais
END:VEVENT
END:VCALENDAR