BEGIN:VCALENDAR
VERSION:2.0
BEGIN:VEVENT
URL:https://missoesurbanas.xyz/index.php/social/events/viewevent/13-treinamento-de-evangelismo-urbano 
DTSTART:20171118T080000
DTEND:20171118T170000
SUMMARY:Treinamento de Evangelismo Urbano
DESCRIPTION:<p>As pessoas estão nas ruas da cidade aguardando a única mensagem que pode transformar completamente suas vidas.</p><p>Reserve este dia para se dedicar ao aprendizado. Como está escrito: "Antes, santificai ao Senhor Deus em vossos corações; e estai sempre preparados para responder com mansidão e temor a qualquer que vos pedir a razão da esperança que há em vós," (1 Pe 3:15) Esperamos que você seja edificado e receba ferramentas para alcançar pessoas com a mensagem de salvação em Jesus Cristo.</p><p>Alguns tópicos do Treinamento: Abordagem, Adm Pessoal, Chamado com Discípulo, Oração como Ferramenta Evangelística, Pré-Evangelismo e outros. Assista este breve vídeo sobre o <a href="http://missoesurbanas.com/index.php/veja/nossos-videos/treinamentos/video/testemunho-de-treinamento">Testemunho do Treinamento</a>. </p><p>Para adquirir nossa camiseta, no valor de R$ 25,00 (vinte e cinco reais), basta marcar SIM no final do Formulário de Treinamento. <a href="http://missoesurbanas.com/images/DiversosN/CamisaNova.jpg">Veja aqui</a> o modelo da camiseta.</p><p>Valor do Investimento R$ 50,00 (cinquenta reais). Reserve sua vaga!!! Entre em contato conosco e faça a sua inscrição preenchendo a <a href="http://missoesurbanas.com/index.php/veja/nossos-eventos/eventdetail/13/-/treinamento-de-evangelismo-urbano">Ficha de Inscrição no rodapé desta pagina</a>. Após o seu nome selecione a Opção: "Inscrição no Treinamento". Depois de inserir suas informações, pressione o botão vermelho para ENVIAR. Você receberá uma mensagem acusando o recebimento do seu Formulário e confirmando sua inscrição no Treinamento. Qualquer dúvida, por favor, entre em contato conosco. Contamos com suas orações.</p><p>O Treinamento Básico de Evangelismo Urbano será ministrado no dia 18 de Novembro de 2017, na Igreja Evangelica Assembleia de Deus Ministério Alfa & Omega, situada na Rua Santo Everaldo, S/N - Padre Miguel - Rio de Janeiro, RJ.</p><p>Para chegar ao local do treinamento é muito simples. O ponto de referência é a Estação de Trem de Padre Miguel e o viaduto Dep. Waldemar Vianna. Você também poderá usar este <a href="https://www.google.com.br/maps/place/R.+Santo+Everaldo+-+Padre+Miguel,+Rio+de+Janeiro+-+RJ,+21875-210/@-22.8738979,-43.4489357,18z/data=!3m1!4b1!4m5!3m4!1s0x9bdf80f70e7b95:0x52239817f9e71dfe!8m2!3d-22.8738979!4d-43.4478414?dcr=0">MAPA</a>.</p> <br /> 
LOCATION:Rua Santo Everaldo, S/N - Padre Miguel - Rio de Janeiro, RJ.
END:VEVENT
END:VCALENDAR